BEGIN:VCALENDAR
VERSION:2.0
PRODID:-//Freiwillige Feuerwehr Mainstockheim - ECPv6.15.20//NONSGML v1.0//EN
CALSCALE:GREGORIAN
METHOD:PUBLISH
X-WR-CALNAME:Freiwillige Feuerwehr Mainstockheim
X-ORIGINAL-URL:https://ffw-mainstockheim.de
X-WR-CALDESC:Veranstaltungen für Freiwillige Feuerwehr Mainstockheim
REFRESH-INTERVAL;VALUE=DURATION:PT1H
X-Robots-Tag:noindex
X-PUBLISHED-TTL:PT1H
BEGIN:VTIMEZONE
TZID:Europe/Berlin
BEGIN:DAYLIGHT
TZOFFSETFROM:+0100
TZOFFSETTO:+0200
TZNAME:CEST
DTSTART:20250330T010000
END:DAYLIGHT
BEGIN:STANDARD
TZOFFSETFROM:+0200
TZOFFSETTO:+0100
TZNAME:CET
DTSTART:20251026T010000
END:STANDARD
BEGIN:DAYLIGHT
TZOFFSETFROM:+0100
TZOFFSETTO:+0200
TZNAME:CEST
DTSTART:20260329T010000
END:DAYLIGHT
BEGIN:STANDARD
TZOFFSETFROM:+0200
TZOFFSETTO:+0100
TZNAME:CET
DTSTART:20261025T010000
END:STANDARD
BEGIN:DAYLIGHT
TZOFFSETFROM:+0100
TZOFFSETTO:+0200
TZNAME:CEST
DTSTART:20270328T010000
END:DAYLIGHT
BEGIN:STANDARD
TZOFFSETFROM:+0200
TZOFFSETTO:+0100
TZNAME:CET
DTSTART:20271031T010000
END:STANDARD
BEGIN:DAYLIGHT
TZOFFSETFROM:+0100
TZOFFSETTO:+0200
TZNAME:CEST
DTSTART:20280326T010000
END:DAYLIGHT
BEGIN:STANDARD
TZOFFSETFROM:+0200
TZOFFSETTO:+0100
TZNAME:CET
DTSTART:20281029T010000
END:STANDARD
END:VTIMEZONE
BEGIN:VEVENT
DTSTART;TZID=Europe/Berlin:20260424T190000
DTEND;TZID=Europe/Berlin:20260424T210000
DTSTAMP:20260422T162341
CREATED:20260226T194826Z
LAST-MODIFIED:20260226T202414Z
UID:1217-1777057200-1777064400@ffw-mainstockheim.de
SUMMARY:Gesamtübung
DESCRIPTION:
URL:https://ffw-mainstockheim.de/event/gesamtuebung-6/
LOCATION:Gerätehaus\, Hauptstraße 102\, Mainstockheim\, Bayern\, 97320\, Deutschland
END:VEVENT
BEGIN:VEVENT
DTSTART;TZID=Europe/Berlin:20260508T080000
DTEND;TZID=Europe/Berlin:20260508T100000
DTSTAMP:20260422T162341
CREATED:20260226T194826Z
LAST-MODIFIED:20260226T202414Z
UID:1218-1778227200-1778234400@ffw-mainstockheim.de
SUMMARY:Gesamtübung anschl. GF
DESCRIPTION:
URL:https://ffw-mainstockheim.de/event/gesamtuebung-anschl-gf/
LOCATION:Gerätehaus\, Hauptstraße 102\, Mainstockheim\, Bayern\, 97320\, Deutschland
END:VEVENT
BEGIN:VEVENT
DTSTART;TZID=Europe/Berlin:20260516T121500
DTEND;TZID=Europe/Berlin:20260516T123000
DTSTAMP:20260422T162341
CREATED:20260226T193324Z
LAST-MODIFIED:20260226T202414Z
UID:1116-1778933700-1778934600@ffw-mainstockheim.de
SUMMARY:Sirenenprobe
DESCRIPTION:
URL:https://ffw-mainstockheim.de/event/sirenenprobe-6/
LOCATION:Gerätehaus\, Hauptstraße 102\, Mainstockheim\, Bayern\, 97320\, Deutschland
END:VEVENT
BEGIN:VEVENT
DTSTART;TZID=Europe/Berlin:20260529T190000
DTEND;TZID=Europe/Berlin:20260529T210000
DTSTAMP:20260422T162341
CREATED:20260226T194826Z
LAST-MODIFIED:20260226T202414Z
UID:1219-1780081200-1780088400@ffw-mainstockheim.de
SUMMARY:Gesamtübung
DESCRIPTION:
URL:https://ffw-mainstockheim.de/event/gesamtuebung-5/
LOCATION:Gerätehaus\, Hauptstraße 102\, Mainstockheim\, Bayern\, 97320\, Deutschland
END:VEVENT
BEGIN:VEVENT
DTSTART;TZID=Europe/Berlin:20260612T190000
DTEND;TZID=Europe/Berlin:20260612T210000
DTSTAMP:20260422T162341
CREATED:20260226T194825Z
LAST-MODIFIED:20260226T202414Z
UID:1220-1781290800-1781298000@ffw-mainstockheim.de
SUMMARY:Gesamtübung
DESCRIPTION:
URL:https://ffw-mainstockheim.de/event/gesamtuebung-4-2/
LOCATION:Gerätehaus\, Hauptstraße 102\, Mainstockheim\, Bayern\, 97320\, Deutschland
END:VEVENT
BEGIN:VEVENT
DTSTART;TZID=Europe/Berlin:20260626T190000
DTEND;TZID=Europe/Berlin:20260626T210000
DTSTAMP:20260422T162341
CREATED:20260226T194843Z
LAST-MODIFIED:20260226T202415Z
UID:1225-1782500400-1782507600@ffw-mainstockheim.de
SUMMARY:Gesamtübung
DESCRIPTION:
URL:https://ffw-mainstockheim.de/event/gesamtuebung-19/
LOCATION:Gerätehaus\, Hauptstraße 102\, Mainstockheim\, Bayern\, 97320\, Deutschland
END:VEVENT
BEGIN:VEVENT
DTSTART;TZID=Europe/Berlin:20260710T160000
DTEND;TZID=Europe/Berlin:20260710T190000
DTSTAMP:20260422T162341
CREATED:20260226T193239Z
LAST-MODIFIED:20260226T202415Z
UID:1120-1783699200-1783710000@ffw-mainstockheim.de
SUMMARY:Bühnenaufbau
DESCRIPTION:
URL:https://ffw-mainstockheim.de/event/buehnenaufbau/
LOCATION:Gerätehaus\, Hauptstraße 102\, Mainstockheim\, Bayern\, 97320\, Deutschland
END:VEVENT
BEGIN:VEVENT
DTSTART;TZID=Europe/Berlin:20260710T190000
DTEND;TZID=Europe/Berlin:20260710T210000
DTSTAMP:20260422T162341
CREATED:20260226T194843Z
LAST-MODIFIED:20260226T202415Z
UID:1226-1783710000-1783717200@ffw-mainstockheim.de
SUMMARY:Gesamtübung
DESCRIPTION:
URL:https://ffw-mainstockheim.de/event/gesamtuebung-18/
LOCATION:Gerätehaus\, Hauptstraße 102\, Mainstockheim\, Bayern\, 97320\, Deutschland
END:VEVENT
BEGIN:VEVENT
DTSTART;TZID=Europe/Berlin:20260718T121500
DTEND;TZID=Europe/Berlin:20260718T123000
DTSTAMP:20260422T162341
CREATED:20260226T193239Z
LAST-MODIFIED:20260226T202415Z
UID:1122-1784376900-1784377800@ffw-mainstockheim.de
SUMMARY:Sirenenprobe
DESCRIPTION:
URL:https://ffw-mainstockheim.de/event/sirenenprobe-5/
LOCATION:Gerätehaus\, Hauptstraße 102\, Mainstockheim\, Bayern\, 97320\, Deutschland
END:VEVENT
BEGIN:VEVENT
DTSTART;TZID=Europe/Berlin:20260724T160000
DTEND;TZID=Europe/Berlin:20260724T190000
DTSTAMP:20260422T162341
CREATED:20260226T193239Z
LAST-MODIFIED:20260226T202415Z
UID:1123-1784908800-1784919600@ffw-mainstockheim.de
SUMMARY:Bühnenabbau
DESCRIPTION:
URL:https://ffw-mainstockheim.de/event/buehnenabbau/
LOCATION:Gerätehaus\, Hauptstraße 102\, Mainstockheim\, Bayern\, 97320\, Deutschland
END:VEVENT
BEGIN:VEVENT
DTSTART;TZID=Europe/Berlin:20260802T080000
DTEND;TZID=Europe/Berlin:20260802T100000
DTSTAMP:20260422T162341
CREATED:20260226T194843Z
LAST-MODIFIED:20260226T202430Z
UID:1227-1785657600-1785664800@ffw-mainstockheim.de
SUMMARY:Gesamtübung
DESCRIPTION:
URL:https://ffw-mainstockheim.de/event/gesamtuebung-17/
LOCATION:Gerätehaus\, Hauptstraße 102\, Mainstockheim\, Bayern\, 97320\, Deutschland
END:VEVENT
BEGIN:VEVENT
DTSTART;TZID=Europe/Berlin:20260802T080000
DTEND;TZID=Europe/Berlin:20260802T100000
DTSTAMP:20260422T162341
CREATED:20260226T194843Z
LAST-MODIFIED:20260226T202430Z
UID:1228-1785657600-1785664800@ffw-mainstockheim.de
SUMMARY:Gesamtübung - Kopie
DESCRIPTION:
URL:https://ffw-mainstockheim.de/event/gesamtuebung-kopie/
LOCATION:Gerätehaus\, Hauptstraße 102\, Mainstockheim\, Bayern\, 97320\, Deutschland
END:VEVENT
BEGIN:VEVENT
DTSTART;TZID=Europe/Berlin:20260823T080000
DTEND;TZID=Europe/Berlin:20260823T100000
DTSTAMP:20260422T162341
CREATED:20260226T194843Z
LAST-MODIFIED:20260226T202430Z
UID:1229-1787472000-1787479200@ffw-mainstockheim.de
SUMMARY:Gesamtübung anschl. GF
DESCRIPTION:
URL:https://ffw-mainstockheim.de/event/gesamtuebung-anschl-gf-2/
LOCATION:Gerätehaus\, Hauptstraße 102\, Mainstockheim\, Bayern\, 97320\, Deutschland
END:VEVENT
BEGIN:VEVENT
DTSTART;TZID=Europe/Berlin:20260908T180000
DTEND;TZID=Europe/Berlin:20260908T220000
DTSTAMP:20260422T162341
CREATED:20260226T193728Z
LAST-MODIFIED:20260226T202430Z
UID:1183-1788890400-1788904800@ffw-mainstockheim.de
SUMMARY:Kirchweihübung
DESCRIPTION:Inhalt: Infos folgen.
URL:https://ffw-mainstockheim.de/event/kirchweiherwachsenen-uebung/
LOCATION:Gerätehaus\, Hauptstraße 102\, Mainstockheim\, Bayern\, 97320\, Deutschland
END:VEVENT
BEGIN:VEVENT
DTSTART;TZID=Europe/Berlin:20260910T110000
DTEND;TZID=Europe/Berlin:20260910T113000
DTSTAMP:20260422T162341
CREATED:20260226T193239Z
LAST-MODIFIED:20260226T202430Z
UID:1128-1789038000-1789039800@ffw-mainstockheim.de
SUMMARY:Bundeswarntag
DESCRIPTION:
URL:https://ffw-mainstockheim.de/event/bundeswarntag/
LOCATION:Gerätehaus\, Hauptstraße 102\, Mainstockheim\, Bayern\, 97320\, Deutschland
END:VEVENT
BEGIN:VEVENT
DTSTART;TZID=Europe/Berlin:20260919T121500
DTEND;TZID=Europe/Berlin:20260919T123000
DTSTAMP:20260422T162341
CREATED:20260226T193238Z
LAST-MODIFIED:20260226T202431Z
UID:1129-1789820100-1789821000@ffw-mainstockheim.de
SUMMARY:Sirenenprobe
DESCRIPTION:
URL:https://ffw-mainstockheim.de/event/sirenenprobe-4/
LOCATION:Gerätehaus\, Hauptstraße 102\, Mainstockheim\, Bayern\, 97320\, Deutschland
END:VEVENT
BEGIN:VEVENT
DTSTART;TZID=Europe/Berlin:20260925T190000
DTEND;TZID=Europe/Berlin:20260925T210000
DTSTAMP:20260422T162341
CREATED:20260226T194843Z
LAST-MODIFIED:20260226T202431Z
UID:1230-1790362800-1790370000@ffw-mainstockheim.de
SUMMARY:Gesamtübung
DESCRIPTION:
URL:https://ffw-mainstockheim.de/event/gesamtuebung-16/
LOCATION:Gerätehaus\, Hauptstraße 102\, Mainstockheim\, Bayern\, 97320\, Deutschland
END:VEVENT
BEGIN:VEVENT
DTSTART;TZID=Europe/Berlin:20261011T080000
DTEND;TZID=Europe/Berlin:20261011T100000
DTSTAMP:20260422T162341
CREATED:20260226T194843Z
LAST-MODIFIED:20260226T202431Z
UID:1231-1791705600-1791712800@ffw-mainstockheim.de
SUMMARY:Gesamtübung
DESCRIPTION:
URL:https://ffw-mainstockheim.de/event/gesamtuebung-15/
LOCATION:Gerätehaus\, Hauptstraße 102\, Mainstockheim\, Bayern\, 97320\, Deutschland
END:VEVENT
BEGIN:VEVENT
DTSTART;TZID=Europe/Berlin:20261025T080000
DTEND;TZID=Europe/Berlin:20261025T100000
DTSTAMP:20260422T162341
CREATED:20260226T194843Z
LAST-MODIFIED:20260226T202431Z
UID:1232-1792915200-1792922400@ffw-mainstockheim.de
SUMMARY:Gesamtübung
DESCRIPTION:
URL:https://ffw-mainstockheim.de/event/gesamtuebung-14/
LOCATION:Gerätehaus\, Hauptstraße 102\, Mainstockheim\, Bayern\, 97320\, Deutschland
END:VEVENT
BEGIN:VEVENT
DTSTART;TZID=Europe/Berlin:20261113T190000
DTEND;TZID=Europe/Berlin:20261113T210000
DTSTAMP:20260422T162341
CREATED:20260226T194843Z
LAST-MODIFIED:20260226T202431Z
UID:1233-1794596400-1794603600@ffw-mainstockheim.de
SUMMARY:Gesamtübung
DESCRIPTION:
URL:https://ffw-mainstockheim.de/event/gesamtuebung-13/
LOCATION:Gerätehaus\, Hauptstraße 102\, Mainstockheim\, Bayern\, 97320\, Deutschland
END:VEVENT
BEGIN:VEVENT
DTSTART;TZID=Europe/Berlin:20261121T121500
DTEND;TZID=Europe/Berlin:20261121T123000
DTSTAMP:20260422T162341
CREATED:20260226T193238Z
LAST-MODIFIED:20260226T202447Z
UID:1134-1795263300-1795264200@ffw-mainstockheim.de
SUMMARY:Sirenenprobe
DESCRIPTION:
URL:https://ffw-mainstockheim.de/event/sirenenprobe-3/
LOCATION:Gerätehaus\, Hauptstraße 102\, Mainstockheim\, Bayern\, 97320\, Deutschland
END:VEVENT
BEGIN:VEVENT
DTSTART;TZID=Europe/Berlin:20261127T190000
DTEND;TZID=Europe/Berlin:20261127T210000
DTSTAMP:20260422T162341
CREATED:20260226T194843Z
LAST-MODIFIED:20260226T202447Z
UID:1234-1795806000-1795813200@ffw-mainstockheim.de
SUMMARY:Gesamtübung
DESCRIPTION:
URL:https://ffw-mainstockheim.de/event/gesamtuebung-12/
LOCATION:Gerätehaus\, Hauptstraße 102\, Mainstockheim\, Bayern\, 97320\, Deutschland
END:VEVENT
BEGIN:VEVENT
DTSTART;TZID=Europe/Berlin:20261213T080000
DTEND;TZID=Europe/Berlin:20261213T100000
DTSTAMP:20260422T162341
CREATED:20260226T194843Z
LAST-MODIFIED:20260226T202447Z
UID:1235-1797148800-1797156000@ffw-mainstockheim.de
SUMMARY:Gesamtübung
DESCRIPTION:
URL:https://ffw-mainstockheim.de/event/gesamtuebung-11/
LOCATION:Gerätehaus\, Hauptstraße 102\, Mainstockheim\, Bayern\, 97320\, Deutschland
END:VEVENT
BEGIN:VEVENT
DTSTART;TZID=Europe/Berlin:20270108T080000
DTEND;TZID=Europe/Berlin:20270108T100000
DTSTAMP:20260422T162341
CREATED:20260226T194843Z
LAST-MODIFIED:20260226T202731Z
UID:1236-1799395200-1799402400@ffw-mainstockheim.de
SUMMARY:Gesamtübung
DESCRIPTION:
URL:https://ffw-mainstockheim.de/event/gesamtuebung-10/
LOCATION:Gerätehaus\, Hauptstraße 102\, Mainstockheim\, Bayern\, 97320\, Deutschland
END:VEVENT
BEGIN:VEVENT
DTSTART;TZID=Europe/Berlin:20270131T080000
DTEND;TZID=Europe/Berlin:20270131T100000
DTSTAMP:20260422T162341
CREATED:20260226T193238Z
LAST-MODIFIED:20260226T202447Z
UID:1138-1801382400-1801389600@ffw-mainstockheim.de
SUMMARY:Winterschulung
DESCRIPTION:
URL:https://ffw-mainstockheim.de/event/winterschulung/
LOCATION:Gerätehaus\, Hauptstraße 102\, Mainstockheim\, Bayern\, 97320\, Deutschland
END:VEVENT
END:VCALENDAR